BEGIN:VCALENDAR
VERSION:2.0
PRODID:icalendar-ruby
CALSCALE:GREGORIAN
BEGIN:VEVENT
DTSTAMP:20210119T145038Z
UID:8233a517-9d92-458f-a599-30635d52e54b
DTSTART;TZID=Pacific/Auckland:20210120T150000
DTEND;TZID=Pacific/Auckland:20210120T154500
DESCRIPTION:Property ID# 499791
SUMMARY:Openhome for 1+2/1 & 2/88 Tancred Street
END:VEVENT
END:VCALENDAR
