BEGIN:VCALENDAR
VERSION:2.0
PRODID:icalendar-ruby
CALSCALE:GREGORIAN
BEGIN:VEVENT
DTSTAMP:20210119T150353Z
UID:e63f63c0-0057-41e9-b434-79fd405c71a9
DTSTART;TZID=Pacific/Auckland:20210124T113000
DTEND;TZID=Pacific/Auckland:20210124T120000
DESCRIPTION:Property ID# 499333
SUMMARY:Openhome for 69 Douglas Road
END:VEVENT
END:VCALENDAR
