BEGIN:VCALENDAR
VERSION:2.0
PRODID:icalendar-ruby
CALSCALE:GREGORIAN
BEGIN:VEVENT
DTSTAMP:20210119T150303Z
UID:1a4931d9-1ba8-429b-9cb2-90b1ef9f6ba7
DTSTART;TZID=Pacific/Auckland:20210124T110000
DTEND;TZID=Pacific/Auckland:20210124T120000
DESCRIPTION:Property ID# 499492
SUMMARY:Openhome for 307 New Brighton Road
END:VEVENT
END:VCALENDAR
