BEGIN:VCALENDAR
VERSION:2.0
PRODID:icalendar-ruby
CALSCALE:GREGORIAN
BEGIN:VEVENT
DTSTAMP:20210119T150307Z
UID:d2535b30-6801-4afa-bf21-052c3571e5da
DTSTART;TZID=Pacific/Auckland:20210124T130000
DTEND;TZID=Pacific/Auckland:20210124T133000
DESCRIPTION:Property ID# 497367
SUMMARY:Openhome for 1/443 Hereford Street
END:VEVENT
END:VCALENDAR
