BEGIN:VCALENDAR
VERSION:2.0
PRODID:icalendar-ruby
CALSCALE:GREGORIAN
BEGIN:VEVENT
DTSTAMP:20210119T150329Z
UID:afaea781-575b-41ef-a30a-2a77a6088552
DTSTART;VALUE=DATE:20201210
DESCRIPTION:Property ID# 496569\, Time: 4:00PM
SUMMARY:Auction for 
END:VEVENT
END:VCALENDAR
