BEGIN:VCALENDAR
VERSION:2.0
PRODID:icalendar-ruby
CALSCALE:GREGORIAN
BEGIN:VEVENT
DTSTAMP:20210119T150331Z
UID:061a0855-1eda-433f-b5c3-42d64f505777
DTSTART;VALUE=DATE:20201205
DESCRIPTION:Property ID# 495734\, Locatoin: Onsite\, Time: 12:00PM
SUMMARY:Auction for 
END:VEVENT
END:VCALENDAR
