BEGIN:VCALENDAR
VERSION:2.0
PRODID:icalendar-ruby
CALSCALE:GREGORIAN
BEGIN:VEVENT
DTSTAMP:20210119T150314Z
UID:fef1b9ec-f67b-468a-b15b-c12c90ba05ce
DTSTART;VALUE=DATE:20201125
DESCRIPTION:Property ID# 494466\, Locatoin: Tait Technology Centre\, 245 Wo
 olridge Road\, Christchurch\, Time: 12:00PM
SUMMARY:Auction for 207B Hoon Hay Road
END:VEVENT
END:VCALENDAR
