BEGIN:VCALENDAR
VERSION:2.0
PRODID:icalendar-ruby
CALSCALE:GREGORIAN
BEGIN:VEVENT
DTSTAMP:20210121T015048Z
UID:0f03420d-8ace-46c1-859c-db2ca5894cc5
DTSTART;VALUE=DATE:20201125
DESCRIPTION:Property ID# 494368\, Locatoin: Mike Pero Head Office\, Tait Co
 mmunications Building \, Sir Angus Tait Drive\, Time: 12:00PM
SUMMARY:Auction for 
END:VEVENT
END:VCALENDAR
