BEGIN:VCALENDAR
VERSION:2.0
PRODID:icalendar-ruby
CALSCALE:GREGORIAN
BEGIN:VEVENT
DTSTAMP:20210121T015046Z
UID:d740430c-be2e-4e49-83a7-68d8088ec2e2
DTSTART;VALUE=DATE:20201021
DESCRIPTION:Property ID# 491647\, Time: 4:00PM
SUMMARY:Auction for 108D Withells Road
END:VEVENT
END:VCALENDAR
