BEGIN:VCALENDAR
VERSION:2.0
PRODID:icalendar-ruby
CALSCALE:GREGORIAN
BEGIN:VEVENT
DTSTAMP:20210119T150256Z
UID:4b2900af-14b6-430f-a168-e2f6a9df8f29
DTSTART;VALUE=DATE:20201022
DESCRIPTION:Property ID# 491477\, Locatoin: 98 Moorhouse Avenue\, Christchu
 rch\, Time: 12:00PM
SUMMARY:Auction for 
END:VEVENT
END:VCALENDAR
