BEGIN:VCALENDAR
VERSION:2.0
PRODID:icalendar-ruby
CALSCALE:GREGORIAN
BEGIN:VEVENT
DTSTAMP:20210121T015217Z
UID:34d1f10d-e9cb-4a9e-b5bc-89deb086722a
DTSTART;VALUE=DATE:20201104
DESCRIPTION:Property ID# 491388\, Time: 4:00PM
SUMMARY:Auction for 17 March Pl
END:VEVENT
END:VCALENDAR
