BEGIN:VCALENDAR
VERSION:2.0
PRODID:icalendar-ruby
CALSCALE:GREGORIAN
BEGIN:VEVENT
DTSTAMP:20210119T150332Z
UID:bb20791f-8c8b-4428-abd7-1372f2edf6be
DTSTART;VALUE=DATE:20201015
DESCRIPTION:Property ID# 491199\, Time: 4:00PM
SUMMARY:Auction for 
END:VEVENT
END:VCALENDAR
