BEGIN:VCALENDAR
VERSION:2.0
PRODID:icalendar-ruby
CALSCALE:GREGORIAN
BEGIN:VEVENT
DTSTAMP:20210119T150341Z
UID:1eaf2bbf-2d2a-4ef1-90cc-1b4fce400b36
DTSTART;VALUE=DATE:20201003
DESCRIPTION:Property ID# 490019\, Locatoin: Onsite (unless sold prior)\, Ti
 me: 12:00PM
SUMMARY:Auction for 
END:VEVENT
END:VCALENDAR
