BEGIN:VCALENDAR
VERSION:2.0
PRODID:icalendar-ruby
CALSCALE:GREGORIAN
BEGIN:VEVENT
DTSTAMP:20210119T150349Z
UID:aeeebee8-728c-4fe8-a621-84143461e5a1
DTSTART;VALUE=DATE:20200926
DESCRIPTION:Property ID# 488403\, Time: 11:00AM
SUMMARY:Auction for 
END:VEVENT
END:VCALENDAR
