BEGIN:VCALENDAR
VERSION:2.0
PRODID:icalendar-ruby
CALSCALE:GREGORIAN
BEGIN:VEVENT
DTSTAMP:20210121T015218Z
UID:af112917-9004-499c-ad33-75af9931fd50
DTSTART;VALUE=DATE:20200917
DESCRIPTION:Property ID# 488280\, Locatoin: All offers on or before 4pm\, T
 hursday 17th September 2020 (unless sold prior).\, Time: 4:00PM
SUMMARY:Auction for 
END:VEVENT
END:VCALENDAR
