BEGIN:VCALENDAR
VERSION:2.0
PRODID:icalendar-ruby
CALSCALE:GREGORIAN
BEGIN:VEVENT
DTSTAMP:20210119T150258Z
UID:a3ac458c-256c-4001-b521-52b758f747e3
DTSTART;VALUE=DATE:20200910
DESCRIPTION:Property ID# 488239\, Locatoin: 98 Moorhouse Avenue\, Christchu
 rch\, Time: 12:00PM
SUMMARY:Auction for 
END:VEVENT
END:VCALENDAR
