BEGIN:VCALENDAR
VERSION:2.0
PRODID:icalendar-ruby
CALSCALE:GREGORIAN
BEGIN:VEVENT
DTSTAMP:20210119T150259Z
UID:3447324d-3d07-4d2f-a5f6-92ac39e11c56
DTSTART;VALUE=DATE:20200730
DESCRIPTION:Property ID# 484765\, Locatoin: 98 Moorhouse Avenue\, Christchu
 rch\, Time: 12:00PM
SUMMARY:Auction for 
END:VEVENT
END:VCALENDAR
