BEGIN:VCALENDAR
VERSION:2.0
PRODID:icalendar-ruby
CALSCALE:GREGORIAN
BEGIN:VEVENT
DTSTAMP:20210119T150334Z
UID:9028b998-cd9c-4ef0-99c7-9d3b41e0d8c6
DTSTART;VALUE=DATE:20200625
DESCRIPTION:Property ID# 483854\, Time: 12:00PM
SUMMARY:Auction for 
END:VEVENT
END:VCALENDAR
