BEGIN:VCALENDAR
VERSION:2.0
PRODID:icalendar-ruby
CALSCALE:GREGORIAN
BEGIN:VEVENT
DTSTAMP:20210119T150335Z
UID:6a71b68b-78b7-4520-96df-5babdfeb3095
DTSTART;VALUE=DATE:20200702
DESCRIPTION:Property ID# 483043\, Locatoin: All offers on or before 4pm\, T
 hursday 2nd July 2020 (unless sold prior).\, Time: 4:00PM
SUMMARY:Auction for 
END:VEVENT
END:VCALENDAR
