BEGIN:VCALENDAR
VERSION:2.0
PRODID:icalendar-ruby
CALSCALE:GREGORIAN
BEGIN:VEVENT
DTSTAMP:20210119T150300Z
UID:07a202d6-2723-4374-a0b9-e10074bd0327
DTSTART;VALUE=DATE:20200709
DESCRIPTION:Property ID# 482680\, Locatoin: 98 Moorhouse Avenue\, Christchu
 rch\, Time: 12:00PM
SUMMARY:Auction for 
END:VEVENT
END:VCALENDAR
