BEGIN:VCALENDAR
VERSION:2.0
PRODID:icalendar-ruby
CALSCALE:GREGORIAN
BEGIN:VEVENT
DTSTAMP:20210119T150350Z
UID:9303dc7a-ff02-4daf-9731-3f520362cc34
DTSTART;VALUE=DATE:20200623
DESCRIPTION:Property ID# 481915\, Time: 12:00PM
SUMMARY:Auction for 
END:VEVENT
END:VCALENDAR
