BEGIN:VCALENDAR
VERSION:2.0
PRODID:icalendar-ruby
CALSCALE:GREGORIAN
BEGIN:VEVENT
DTSTAMP:20210121T015050Z
UID:959dfcf9-d98f-4634-9a6d-7c7f233b3dba
DTSTART;VALUE=DATE:20200416
DESCRIPTION:Property ID# 476704\, Time: 4:00PM
SUMMARY:Auction for 
END:VEVENT
END:VCALENDAR
