BEGIN:VCALENDAR
VERSION:2.0
PRODID:icalendar-ruby
CALSCALE:GREGORIAN
BEGIN:VEVENT
DTSTAMP:20210119T150302Z
UID:e5033fda-bf3c-4b6e-9156-5b925135fa32
DTSTART;VALUE=DATE:20191209
DESCRIPTION:Property ID# 467377\, Time: 4:00PM
SUMMARY:Auction for 
END:VEVENT
END:VCALENDAR
