BEGIN:VCALENDAR
VERSION:2.0
PRODID:icalendar-ruby
CALSCALE:GREGORIAN
BEGIN:VEVENT
DTSTAMP:20210119T150319Z
UID:fd443f6a-d480-4536-9d37-da4111d9d965
DTSTART;VALUE=DATE:20191211
DESCRIPTION:Property ID# 466983\, Time: 4:00PM
SUMMARY:Auction for 
END:VEVENT
END:VCALENDAR
