BEGIN:VCALENDAR
VERSION:2.0
PRODID:icalendar-ruby
CALSCALE:GREGORIAN
BEGIN:VEVENT
DTSTAMP:20210121T015535Z
UID:89a95966-4bb7-456d-a28a-721408990d7f
DTSTART;VALUE=DATE:20191113
DESCRIPTION:Property ID# 465334\, Locatoin: All offers on or before 4pm\, W
 ednesday 13th November 2019 (unless sold prior).\, Time: 12:00PM
SUMMARY:Auction for 
END:VEVENT
END:VCALENDAR
