BEGIN:VCALENDAR
VERSION:2.0
PRODID:icalendar-ruby
CALSCALE:GREGORIAN
BEGIN:VEVENT
DTSTAMP:20210119T150352Z
UID:7d41ce54-40fa-4e8f-b460-d7a390616660
DTSTART;VALUE=DATE:20191112
DESCRIPTION:Property ID# 465264\, Time: 5:00PM
SUMMARY:Auction for 
END:VEVENT
END:VCALENDAR
