BEGIN:VCALENDAR
VERSION:2.0
PRODID:icalendar-ruby
CALSCALE:GREGORIAN
BEGIN:VEVENT
DTSTAMP:20210121T015536Z
UID:7bedf621-e53b-4791-895c-e5987d5760c1
DTSTART;VALUE=DATE:20191016
DESCRIPTION:Property ID# 461973\, Time: 4:00PM
SUMMARY:Auction for 
END:VEVENT
END:VCALENDAR
